BEGIN:VCALENDAR
PRODID:-//AT Content Types//AT Event//EN
VERSION:1.0
BEGIN:VEVENT
DTSTART:20110326T130000Z
DTEND:20110326T210000Z
DCREATED:20110202T160935Z
UID:ATEvent-ef0c220c54af7d09b9472dbae8438569
SEQUENCE:0
LAST-MODIFIED:20110216T110011Z
SUMMARY:Les rencontres de basket du samedi 26 mars à Waldighoffen.
LOCATION:salle Nathan Katz\, rue des écoles.
PRIORITY:3
TRANSP:0
END:VEVENT
END:VCALENDAR
