BEGIN:VCALENDAR
PRODID:-//AT Content Types//AT Event//EN
VERSION:2.0
METHOD:PUBLISH
BEGIN:VEVENT
DTSTAMP:20260420T031852Z
CREATED:20110201T162000Z
UID:ATEvent-89fe72bde67b592eae7c103596414017
LAST-MODIFIED:20110216T110008Z
SUMMARY:les rencontres de basket du samedi 5 février à Waldighoffen.
DTSTART:20110205T130000Z
DTEND:20110205T213000Z
DESCRIPTION:6 matchs sont au menu des basketteurs locaux samedi 5 fév
 rier.
LOCATION:salle Nathan Katz\, rue des écoles.
CLASS:PUBLIC
END:VEVENT
END:VCALENDAR
