BEGIN:VCALENDAR
PRODID:-//AT Content Types//AT Event//EN
VERSION:1.0
BEGIN:VEVENT
DTSTART:20110422T170000Z
DTEND:20110422T200000Z
DCREATED:20110215T164503Z
UID:ATEvent-552782cd5119da05518ec3b3f27954c0
SEQUENCE:0
LAST-MODIFIED:20110216T110008Z
SUMMARY:Les rencontres de basket du vendredi 22 avril à Waldighoffen.
DESCRIPTION:Seniors garçons et féminines jouent à domicile en ce jo
 ur de vendredi Saint.
LOCATION:salle Nathan Katz\, rue des écoles.
PRIORITY:3
TRANSP:0
END:VEVENT
END:VCALENDAR
