BEGIN:VCALENDAR
PRODID:-//AT Content Types//AT Event//EN
VERSION:2.0
METHOD:PUBLISH
BEGIN:VEVENT
DTSTAMP:20260420T031439Z
CREATED:20110201T164025Z
UID:ATEvent-7a03740ee5fae09d4a7eeee7f3ff7650
LAST-MODIFIED:20110216T110009Z
SUMMARY:les rencontres du dimanche 13 février au basket-club CSSPP Waldighoffen.
DTSTART:20110213T123000Z
DTEND:20110213T160000Z
DESCRIPTION:Encore que des rencontres à l'extérieur.
CLASS:PUBLIC
END:VEVENT
END:VCALENDAR
