BEGIN:VCALENDAR
PRODID:-//AT Content Types//AT Event//EN
VERSION:2.0
METHOD:PUBLISH
BEGIN:VEVENT
DTSTAMP:20260420T030729Z
CREATED:20110201T182350Z
UID:ATEvent-d6aac4da40893b9607c7082d8a78f860
LAST-MODIFIED:20110216T110010Z
SUMMARY:Les rencontres du dimanche 6 mars au basket-club CSSPP Waldighoffen.
DTSTART:20110306T133000Z
DTEND:20110306T160000Z
DESCRIPTION:2 rencontres\, une à domicile et une à l'extérieur en c
 e dimanche 6 mars.
LOCATION:salle Nathan Katz\, rue des écoles.
CATEGORIES:CSSPP, Waldighoffen, Rencontres basket, Calendrier matchs basket, Basket, Sport, Sundgau
CLASS:PUBLIC
END:VEVENT
END:VCALENDAR
