BEGIN:VCALENDAR
PRODID:-//AT Content Types//AT Event//EN
VERSION:2.0
METHOD:PUBLISH
BEGIN:VEVENT
DTSTAMP:20260420T032016Z
CREATED:20110202T155859Z
UID:ATEvent-e8d00cb8d33980bee3935f84a3048856
LAST-MODIFIED:20110216T110011Z
SUMMARY:Les rencontres du samedi 19 mars au basket-club CSSPP Waldighoffen
DTSTART:20110319T130000Z
DTEND:20110319T180000Z
DESCRIPTION:5 rencontres à l'extérieur lors de ce week-end.
CLASS:PUBLIC
END:VEVENT
END:VCALENDAR
