BEGIN:VCALENDAR
PRODID:-//AT Content Types//AT Event//EN
VERSION:1.0
BEGIN:VEVENT
DTSTART:20110409T120000Z
DTEND:20110409T153000Z
DCREATED:20110202T164630Z
UID:ATEvent-2d11d2edba881ca335d5aa540a0c282e
SEQUENCE:0
LAST-MODIFIED:20110216T110011Z
SUMMARY:Les rencontres du samedi 9 avril au basket-club CSSPP Waldighoffen.
DESCRIPTION:Seulement 3 matchs à l'extérieur ce samedi 9 avril.
PRIORITY:3
TRANSP:0
END:VEVENT
END:VCALENDAR
