BEGIN:VCALENDAR
PRODID:-//AT Content Types//AT Event//EN
VERSION:2.0
METHOD:PUBLISH
BEGIN:VEVENT
DTSTAMP:20260420T044232Z
CREATED:20111031T113614Z
UID:ATEvent-6c577f11-29fd-47a4-8235-62634fd95f91
LAST-MODIFIED:20111031T141748Z
SUMMARY:L'évènement basket à Waldighoffen le dimanche 6 novembre 2011
DTSTART:20111106T123000Z
DTEND:20111106T140000Z
DESCRIPTION:Premier match de championnat d'Alsace de basket de l'histo
 ire du basket-club CSSPP Waldighoffen ce dimanche 6 novembre 2011 à 1
 3h30 avec les minimes féminines qui accueillent la SIG.
LOCATION:salle nathan Katz\, rue des écoles.
CLASS:PUBLIC
END:VEVENT
END:VCALENDAR
