BEGIN:VCALENDAR
PRODID:-//AT Content Types//AT Event//EN
VERSION:2.0
METHOD:PUBLISH
BEGIN:VEVENT
DTSTAMP:20260424T070053Z
CREATED:20211121T071514Z
UID:ATEvent-71f32e4507314e0a85cfe976c51ba1ca
LAST-MODIFIED:20220705T090056Z
SUMMARY:Marche de nuit organisée par le basket-club CSSPP Waldighoffen le samedi 22 janvier 2022.
DTSTART:20220122T140000Z
DTEND:20220122T213000Z
DESCRIPTION:Evènement incontournable du début d'année à Waldighoff
 en: La marche de nuit organisé par le basket-club CSSPP Waldighoffen 
 qui en sera à sa 26ème édition.
LOCATION:waldighoffen
CATEGORIES:sport, sundgau, basket-club CSSPP Waldighoffen, marche de nuit
CLASS:PUBLIC
END:VEVENT
END:VCALENDAR
