BEGIN:VCALENDAR
PRODID:-//AT Content Types//AT Event//EN
VERSION:2.0
METHOD:PUBLISH
BEGIN:VEVENT
DTSTAMP:20260421T141200Z
CREATED:20110903T202301Z
UID:ATEvent-70347d9f1f78dd9340750023fb8ede35
LAST-MODIFIED:20110904T164911Z
SUMMARY:3e Exposition de photos anciennes du Cercle d'Histoire et sortie de son premier livre\, les 17 et 18 sept 2011
DTSTART:20110917T120000Z
DTEND:20110918T160000Z
DESCRIPTION:Deux jours d'exposition et de rencontres avec le Cercle d'
 Histoire de Waldighoffen à la salle associative du Forum et possibili
 té d'acquérir le 1er livre de photos qu'il vous propose.
LOCATION:Salle associative du Forum à Waldighoffen
CLASS:PUBLIC
END:VEVENT
END:VCALENDAR
