BEGIN:VCALENDAR
PRODID:-//AT Content Types//AT Event//EN
VERSION:1.0
BEGIN:VEVENT
DTSTART:20120915T120000Z
DTEND:20120916T160000Z
DCREATED:20120820T160016Z
UID:ATEvent-acf3421f478d4504b33b556cf0b858ae
SEQUENCE:0
LAST-MODIFIED:20120913T205556Z
SUMMARY:Exposition annuelle "Bin Ich Das ?" les 15 et 16 septembre 2012
DESCRIPTION:Le Cercle d'Histoire Locale vous propose pour la 4ème ann
 ée consécutive de vous plonger dans l'histoire des familles du villa
 ge de Waldighoffen.
LOCATION:Salle associative de Waldighoffen
PRIORITY:3
TRANSP:0
END:VEVENT
END:VCALENDAR
