BEGIN:VCALENDAR
PRODID:-//AT Content Types//AT Event//EN
VERSION:1.0
BEGIN:VEVENT
DTSTART:20110508T083000Z
DTEND:20110508T100000Z
DCREATED:20110325T113734Z
UID:ATEvent-81c7575adb6ab501be065eabc672eee6
SEQUENCE:0
LAST-MODIFIED:20110429T092637Z
SUMMARY:8 mai  -Vente de Pâtisseries pour la rénovation de l'église
DESCRIPTION:Vente de pâtisseries au Foyer Paroissial le dimanche 8 ma
 i après la messe de 9 h 30
LOCATION:Foyer paroissial de Waldighoffen
PRIORITY:3
TRANSP:0
END:VEVENT
END:VCALENDAR
