BEGIN:VCALENDAR
PRODID:-//AT Content Types//AT Event//EN
VERSION:1.0
BEGIN:VEVENT
DTSTART:20120701T073000Z
DTEND:20120701T084500Z
DCREATED:20120628T164735Z
UID:ATEvent-1cba05da19114fedb0513b07e16a0545
SEQUENCE:0
LAST-MODIFIED:20120628T184936Z
SUMMARY:Dimanche 1er juillet 2012 : Fête Patronale Saints Pierre et Paul : messe solennelle à 9 h 30
DESCRIPTION:Fête Patronale Saints Pierre et Paul ce dimanche 1er juil
 let 2012 messe solennelle à 9 h 30\nINVITATION A TOUTES ET A TOUS !
LOCATION:Eglise Saints Pierre et Paul de Waldighoffen
PRIORITY:3
TRANSP:0
END:VEVENT
END:VCALENDAR
