BEGIN:VCALENDAR
PRODID:-//AT Content Types//AT Event//EN
VERSION:2.0
METHOD:PUBLISH
BEGIN:VEVENT
DTSTAMP:20260421T170159Z
CREATED:20110325T112252Z
UID:ATEvent-264faeaa36c9d87ba80fbc104667b26d
LAST-MODIFIED:20110325T112706Z
SUMMARY:17 avril - Dimanche des Rameaux-Messe des familles dite par Hubert SCHMITT
DTSTART:20110417T163000Z
DTEND:20110417T173000Z
DESCRIPTION:Le Dimanche des Rameaux à 18 h 30 aura lieu une Messe des
  Familles dite par le Vicaire Episcopal
LOCATION:Eglise de Waldighoffen
CLASS:PUBLIC
END:VEVENT
END:VCALENDAR
