BEGIN:VCALENDAR
PRODID:-//AT Content Types//AT Event//EN
VERSION:1.0
BEGIN:VEVENT
DTSTART:20140908T171500Z
DTEND:20140908T181500Z
DCREATED:20140901T173152Z
UID:ATEvent-c781fc1495ce4dc59557521c35f7329e
SEQUENCE:0
LAST-MODIFIED:20140901T173207Z
SUMMARY:1ère séance SPORTFUSION de la saison avec "Ecoute la Rivière"
DESCRIPTION:La méthode SPORTFUSION est une méthode qui se concentre 
 sur une sollicitation intense de tous les groupes musculaires. Chacun 
 va se dépenser en musique et dans la bonne humeur\, à partir du 8 se
 ptembre 2014 pour 32 séances.
LOCATION:Salle associative du Forum de Waldighoffen
PRIORITY:3
TRANSP:0
END:VEVENT
END:VCALENDAR
