BEGIN:VCALENDAR
PRODID:-//AT Content Types//AT Event//EN
VERSION:1.0
BEGIN:VEVENT
DTSTART:20140909T063000Z
DTEND:20140911T091500Z
DCREATED:20140901T172502Z
UID:ATEvent-7afe8b826b4a416d87c44bb3fc8168f0
SEQUENCE:0
LAST-MODIFIED:20140901T172611Z
SUMMARY:1ère semaine des séances de PILATES avec "Ecoute la Rivière"
DESCRIPTION:Après les vacances d’été\, les cours de PILATES vont 
 recommencer à partir du 9 septembre 2014 - Inscriptions dès maintena
 nt. Cours collectifs à la salle associative du Forum de Waldighoffen.
 
LOCATION:Salle associative du Forum
PRIORITY:3
TRANSP:0
END:VEVENT
END:VCALENDAR
