BEGIN:VCALENDAR
PRODID:-//AT Content Types//AT Event//EN
VERSION:1.0
BEGIN:VEVENT
DTSTART:20140921T080000Z
DTEND:20140921T090000Z
DCREATED:20140901T164146Z
UID:ATEvent-ce54c6634c7b4e95ad59863b310e1684
SEQUENCE:0
LAST-MODIFIED:20140901T164946Z
SUMMARY:Le cours de SPORTNATURE de septembre 2014 avec "Ecoute la Rivière"
DESCRIPTION:SPORTNATURE\, un dimanche matin par mois (le 21 septembre 
 pour ce mois\, de 10h à 11h) pour découvrir la nature autrement et s
 e dépenser simplement et avec convivialité\, avec Frédéric HOFF\, 
 de "Ecoute la Rivière" à Waldighoffen.
LOCATION:Waldighoffen (départ Centre Ecoute le Rivière\, rue du Château)
PRIORITY:3
TRANSP:0
END:VEVENT
END:VCALENDAR
