BEGIN:VCALENDAR
PRODID:-//AT Content Types//AT Event//EN
VERSION:1.0
BEGIN:VEVENT
DTSTART:20160410T080000Z
DTEND:20160410T093000Z
DCREATED:20150903T191249Z
UID:ATEvent-d9ea76d5e2ad4c648145d773c55803af
SEQUENCE:0
LAST-MODIFIED:20150906T091557Z
SUMMARY:Le cours de SPORTNATURE du 10 avril 2016 avec "Ecoute la Rivière"
DESCRIPTION:SPORTNATURE\, un dimanche matin par mois de 10h à 11h30\,
  pour découvrir la nature autrement et se dépenser simplement et ave
 c convivialité\, avec Frédéric HOFF\, de "Ecoute la Rivière" à Wa
 ldighoffen.
LOCATION:Waldighoffen (départ Centre Ecoute le Rivière\, rue du Château)
PRIORITY:3
TRANSP:0
END:VEVENT
END:VCALENDAR
