BEGIN:VCALENDAR
PRODID:-//AT Content Types//AT Event//EN
VERSION:2.0
METHOD:PUBLISH
BEGIN:VEVENT
DTSTAMP:20260424T151727Z
CREATED:20150903T191159Z
UID:ATEvent-8e0212c87e0449eb98c311b278017e66
LAST-MODIFIED:20150906T091427Z
SUMMARY:Le cours de SPORTNATURE du 18 octobre 2015 avec "Ecoute la Rivière"
DTSTART:20151018T080000Z
DTEND:20151018T093000Z
DESCRIPTION:SPORTNATURE\, un dimanche matin par mois de 10h à 11h30\,
  pour découvrir la nature autrement et se dépenser simplement et ave
 c convivialité\, avec Frédéric HOFF\, de "Ecoute la Rivière" à Wa
 ldighoffen.
LOCATION:Waldighoffen (départ Centre Ecoute le Rivière\, rue du Château)
CATEGORIES:Waldighoffen, Cours collectifs, Ecoute la Rivière, Sportnature, Frédéric Hoff
CONTACT:Frédéric HOFF\, 06 28 28 53 85
CLASS:PUBLIC
END:VEVENT
END:VCALENDAR
