BEGIN:VCALENDAR
PRODID:-//AT Content Types//AT Event//EN
VERSION:2.0
METHOD:PUBLISH
BEGIN:VEVENT
DTSTAMP:20260424T152135Z
CREATED:20180405T084057Z
UID:ATEvent-cfb1c9d4af6c4f1da15351d9753b9c5a
LAST-MODIFIED:20180412T081126Z
SUMMARY:Portes Ouvertes "Ma SALLE de SPORT 3.0" de Frédéric HOFF du 23 au 29 avril
DTSTART:20180423T150000Z
DTEND:20180429T140000Z
DESCRIPTION:La Salle de Sport Santé de Frédéric Hoff ouvre officiel
 lement le 1er mai 2018 dans le nouveau Pôle Médical de Waldighoffen\
 , au 6\, rue de la République. Nombreuses infos ici
LOCATION:Ma Salle de Sport 3.0. 6\, rue de la République\, Waldighoffen
CLASS:PUBLIC
END:VEVENT
END:VCALENDAR
